BEGIN:VCALENDAR
VERSION:2.0
PRODID:-//Jardin Robinson Onex - ECPv4.9.12//NONSGML v1.0//EN
CALSCALE:GREGORIAN
METHOD:PUBLISH
X-WR-CALNAME:Jardin Robinson Onex
X-ORIGINAL-URL:https://jronex.ch
X-WR-CALDESC:Évènements pour Jardin Robinson Onex
BEGIN:VTIMEZONE
TZID:Europe/Zurich
BEGIN:DAYLIGHT
TZOFFSETFROM:+0100
TZOFFSETTO:+0200
TZNAME:CEST
DTSTART:20220327T010000
END:DAYLIGHT
BEGIN:STANDARD
TZOFFSETFROM:+0200
TZOFFSETTO:+0100
TZNAME:CET
DTSTART:20221030T010000
END:STANDARD
END:VTIMEZONE
BEGIN:VEVENT
DTSTART;TZID=Europe/Zurich:20220611T170000
DTEND;TZID=Europe/Zurich:20220611T220000
DTSTAMP:20260425T111014
CREATED:20220222T113601Z
LAST-MODIFIED:20220222T113724Z
UID:30189-1654966800-1654984800@jronex.ch
SUMMARY:Pizzas-familles et projection du film sur l'Accueil Libre
DESCRIPTION:
URL:https://jronex.ch/event/pizzas-familles-et-film-sur-laccueil-libre/
CATEGORIES:Fête
END:VEVENT
END:VCALENDAR