BEGIN:VCALENDAR
VERSION:2.0
PRODID:-//Jardin Robinson Onex - ECPv4.9.12//NONSGML v1.0//EN
CALSCALE:GREGORIAN
METHOD:PUBLISH
X-WR-CALNAME:Jardin Robinson Onex
X-ORIGINAL-URL:https://jronex.ch
X-WR-CALDESC:Évènements pour Jardin Robinson Onex
BEGIN:VTIMEZONE
TZID:Europe/Zurich
BEGIN:DAYLIGHT
TZOFFSETFROM:+0100
TZOFFSETTO:+0200
TZNAME:CEST
DTSTART:20230326T010000
END:DAYLIGHT
BEGIN:STANDARD
TZOFFSETFROM:+0200
TZOFFSETTO:+0100
TZNAME:CET
DTSTART:20231029T010000
END:STANDARD
END:VTIMEZONE
BEGIN:VEVENT
DTSTART;TZID=Europe/Zurich:20230603T110000
DTEND;TZID=Europe/Zurich:20230603T140000
DTSTAMP:20260424T013434
CREATED:20221129T131639Z
LAST-MODIFIED:20230512T124103Z
UID:30498-1685790000-1685800800@jronex.ch
SUMMARY:Pizzas-familles
DESCRIPTION:
URL:https://jronex.ch/event/pizzas-familles-2/
END:VEVENT
END:VCALENDAR