BEGIN:VCALENDAR
VERSION:2.0
PRODID:-//Jardin Robinson Onex - ECPv4.9.12//NONSGML v1.0//EN
CALSCALE:GREGORIAN
METHOD:PUBLISH
X-WR-CALNAME:Jardin Robinson Onex
X-ORIGINAL-URL:https://jronex.ch
X-WR-CALDESC:Évènements pour Jardin Robinson Onex
BEGIN:VTIMEZONE
TZID:Europe/Zurich
BEGIN:DAYLIGHT
TZOFFSETFROM:+0100
TZOFFSETTO:+0200
TZNAME:CEST
DTSTART:20240331T010000
END:DAYLIGHT
BEGIN:STANDARD
TZOFFSETFROM:+0200
TZOFFSETTO:+0100
TZNAME:CET
DTSTART:20241027T010000
END:STANDARD
END:VTIMEZONE
BEGIN:VEVENT
DTSTART;TZID=Europe/Zurich:20240531T160000
DTEND;TZID=Europe/Zurich:20240601T090000
DTSTAMP:20260421T200624
CREATED:20240516T101300Z
LAST-MODIFIED:20240516T101300Z
UID:31004-1717171200-1717232400@jronex.ch
SUMMARY:Nuit au JRO pour les grands
DESCRIPTION:
URL:https://jronex.ch/event/nuit-au-jro-pour-les-grands-2/
END:VEVENT
END:VCALENDAR